BEGIN:VCALENDAR
VERSION:2.0
PRODID:-//Harborne Village - ECPv6.15.20//NONSGML v1.0//EN
CALSCALE:GREGORIAN
METHOD:PUBLISH
X-ORIGINAL-URL:https://harborne-village.com
X-WR-CALDESC:Events for Harborne Village
REFRESH-INTERVAL;VALUE=DURATION:PT1H
X-Robots-Tag:noindex
X-PUBLISHED-TTL:PT1H
BEGIN:VTIMEZONE
TZID:Europe/London
BEGIN:DAYLIGHT
TZOFFSETFROM:+0000
TZOFFSETTO:+0100
TZNAME:BST
DTSTART:20240331T010000
END:DAYLIGHT
BEGIN:STANDARD
TZOFFSETFROM:+0100
TZOFFSETTO:+0000
TZNAME:GMT
DTSTART:20241027T010000
END:STANDARD
BEGIN:DAYLIGHT
TZOFFSETFROM:+0000
TZOFFSETTO:+0100
TZNAME:BST
DTSTART:20250330T010000
END:DAYLIGHT
BEGIN:STANDARD
TZOFFSETFROM:+0100
TZOFFSETTO:+0000
TZNAME:GMT
DTSTART:20251026T010000
END:STANDARD
BEGIN:DAYLIGHT
TZOFFSETFROM:+0000
TZOFFSETTO:+0100
TZNAME:BST
DTSTART:20260329T010000
END:DAYLIGHT
BEGIN:STANDARD
TZOFFSETFROM:+0100
TZOFFSETTO:+0000
TZNAME:GMT
DTSTART:20261025T010000
END:STANDARD
END:VTIMEZONE
BEGIN:VEVENT
DTSTART;TZID=Europe/London:20251203T193000
DTEND;TZID=Europe/London:20251203T203000
DTSTAMP:20260422T102409
CREATED:20251203T110030Z
LAST-MODIFIED:20251203T110030Z
UID:14899-1764790200-1764793800@harborne-village.com
SUMMARY:Arsenal v Brentford
DESCRIPTION:Watch Arsenal take on Brentford Live at The Vine Inn Pub
URL:https://harborne-village.com/event/arsenal-v-brentford/
LOCATION:The Vine Inn Pub\, 5 Ruston St\, Birmingham B16 8BL\, UK
CATEGORIES:Sport & Outdoors
ATTACH;FMTTYPE=image/jpeg:https://harborne-village.com/wp-content/uploads/2025/12/e583dc5b29f80c9.jpg
END:VEVENT
BEGIN:VEVENT
DTSTART;TZID=Europe/London:20251203T201500
DTEND;TZID=Europe/London:20251203T211500
DTSTAMP:20260422T102409
CREATED:20251203T110031Z
LAST-MODIFIED:20251203T110031Z
UID:14903-1764792900-1764796500@harborne-village.com
SUMMARY:Liverpool v Sunderland
DESCRIPTION:Watch Liverpool take on Sunderland Live at The Vine Inn Pub
URL:https://harborne-village.com/event/liverpool-v-sunderland/
LOCATION:The Vine Inn Pub\, 5 Ruston St\, Birmingham B16 8BL\, UK
CATEGORIES:Sport & Outdoors
ATTACH;FMTTYPE=image/jpeg:https://harborne-village.com/wp-content/uploads/2025/12/8ce3b4b016a9799.jpg
END:VEVENT
BEGIN:VEVENT
DTSTART;TZID=Europe/London:20251203T201500
DTEND;TZID=Europe/London:20251203T221500
DTSTAMP:20260422T102409
CREATED:20251203T110031Z
LAST-MODIFIED:20251203T110031Z
UID:14901-1764792900-1764800100@harborne-village.com
SUMMARY:Leeds United v Chelsea
DESCRIPTION:Watch Leeds United take on Chelsea Live at The Vine Inn Pub
URL:https://harborne-village.com/event/leeds-united-v-chelsea/
LOCATION:The Vine Inn Pub\, 5 Ruston St\, Birmingham B16 8BL\, UK
CATEGORIES:Sport & Outdoors
ATTACH;FMTTYPE=image/jpeg:https://harborne-village.com/wp-content/uploads/2025/12/cf969f5d44c36f6.jpg
END:VEVENT
BEGIN:VEVENT
DTSTART;TZID=Europe/London:20251213T090000
DTEND;TZID=Europe/London:20251213T093000
DTSTAMP:20260422T102409
CREATED:20251211T230032Z
LAST-MODIFIED:20251213T040031Z
UID:15108-1765616400-1765618200@harborne-village.com
SUMMARY:YTT | Barefoot Yoga Teacher Training Course
DESCRIPTION:Yoga Alliance accredited 200hr Yoga Course - Barefoot Yoga Teacher Training.  \nThis is a non-residential\, in-studio course\, with live online sessions in between the weekends we spend together. \n Barefoot Yoga Teacher Training is accredited by Yoga Alliance\, giving you an internationally recognised qualification of the highest standards. The training will take place at Barefoot Birmingham Yoga Studio in Harborne\, just a few miles from Birmingham City Centre and an easy walk from University of Birmingham and the train station. Easily accessible by all public transport. \n 2025 is the 7th year the Course has run.  \nBarefoot Yoga Teacher Training is a huge adventure and a transformative experience like no other. Prepare to fly!
URL:https://harborne-village.com/event/ytt-barefoot-yoga-teacher-training-course/
LOCATION:Barefoot Birmingham Studio\, 7 High St\, Harborne\, Birmingham B17 9NT\, UK
CATEGORIES:Sport & Outdoors
ATTACH;FMTTYPE=image/jpeg:https://harborne-village.com/wp-content/uploads/2025/12/bareff419c988b1.jpg
END:VEVENT
BEGIN:VEVENT
DTSTART;TZID=Europe/London:20251213T120000
DTEND;TZID=Europe/London:20251213T200000
DTSTAMP:20260422T102409
CREATED:20251211T230033Z
LAST-MODIFIED:20251213T110033Z
UID:15112-1765627200-1765656000@harborne-village.com
SUMMARY:Premiership Football
DESCRIPTION:The Premiership Is Back – Catch Every Moment at O'Neill's Harborne! ⚽ \nFrom Friday 15th August to Sunday 24th May\, we’re bringing you every game\, every kick\, every goal of the 2025/26 Premier League season—live and loud on 15 epic screens\, including private booths for the ultimate viewing experience. \nWhether you're backing your team week in\, week out\, or just love soaking up the action with mates and a pint\, O'Neill's Harborne is your home of live football. \n🔥 Premier League matches shown live all season📺 15 high-quality screens🏟️ Private booth bookings available🍻 Great food\, cold pints & unbeatable atmosphere \nBook your seats now and make sure you don’t miss a second of the season!
URL:https://harborne-village.com/event/premiership-football/
LOCATION:O'Neill's Harborne\, 310 High St\, Harborne\, Birmingham B17 9PU\, UK
CATEGORIES:Sport & Outdoors
ATTACH;FMTTYPE=image/jpeg:https://harborne-village.com/wp-content/uploads/2025/12/tonice33233c7d8.jpg
END:VEVENT
BEGIN:VEVENT
DTSTART;TZID=Europe/London:20251213T120000
DTEND;TZID=Europe/London:20251213T200000
DTSTAMP:20260422T102409
CREATED:20251211T230034Z
LAST-MODIFIED:20251213T110033Z
UID:15114-1765627200-1765656000@harborne-village.com
SUMMARY:DJ Every Saturday
DESCRIPTION:⚽ The Premiership Is Back – Catch Every Moment at O'Neill's Harborne! ⚽ \nFrom Friday 15th August to Sunday 24th May\, we’re bringing you every game\, every kick\, every goal of the 2025/26 Premier League season—live and loud on 15 epic screens\, including private booths for the ultimate viewing experience. \nWhether you're backing your team week in\, week out\, or just love soaking up the action with mates and a pint\, O'Neill's Harborne is your home of live football. \n🔥 Premier League matches shown live all season📺 15 high-quality screens🏟️ Private booth bookings available🍻 Great food\, cold pints & unbeatable atmosphere \nBook your seats now and make sure you don’t miss a second of the season!
URL:https://harborne-village.com/event/dj-every-saturday/
LOCATION:O'Neill's Harborne\, 310 High St\, Harborne\, Birmingham B17 9PU\, UK
CATEGORIES:Sport & Outdoors
ATTACH;FMTTYPE=image/jpeg:https://harborne-village.com/wp-content/uploads/2025/12/tonice33233c7d8-1.jpg
END:VEVENT
BEGIN:VEVENT
DTSTART;TZID=Europe/London:20251214T090000
DTEND;TZID=Europe/London:20251214T093000
DTSTAMP:20260422T102409
CREATED:20251211T230034Z
LAST-MODIFIED:20251214T040030Z
UID:15117-1765702800-1765704600@harborne-village.com
SUMMARY:YTT | Barefoot Yoga Teacher Training Course
DESCRIPTION:Yoga Alliance accredited 200hr Yoga Course - Barefoot Yoga Teacher Training.  \nThis is a non-residential\, in-studio course\, with live online sessions in between the weekends we spend together. \n Barefoot Yoga Teacher Training is accredited by Yoga Alliance\, giving you an internationally recognised qualification of the highest standards. The training will take place at Barefoot Birmingham Yoga Studio in Harborne\, just a few miles from Birmingham City Centre and an easy walk from University of Birmingham and the train station. Easily accessible by all public transport. \n 2025 is the 7th year the Course has run.  \nBarefoot Yoga Teacher Training is a huge adventure and a transformative experience like no other. Prepare to fly!
URL:https://harborne-village.com/event/ytt-barefoot-yoga-teacher-training-course-2/
LOCATION:Barefoot Birmingham Studio\, 7 High St\, Harborne\, Birmingham B17 9NT\, UK
CATEGORIES:Sport & Outdoors
ATTACH;FMTTYPE=image/jpeg:https://harborne-village.com/wp-content/uploads/2025/12/bareff419c988b1-1.jpg
END:VEVENT
END:VCALENDAR