BEGIN:VCALENDAR
VERSION:2.0
PRODID:-//Harborne Village - ECPv6.15.20//NONSGML v1.0//EN
CALSCALE:GREGORIAN
METHOD:PUBLISH
X-WR-CALNAME:Harborne Village
X-ORIGINAL-URL:https://harborne-village.com
X-WR-CALDESC:Events for Harborne Village
REFRESH-INTERVAL;VALUE=DURATION:PT1H
X-Robots-Tag:noindex
X-PUBLISHED-TTL:PT1H
BEGIN:VTIMEZONE
TZID:Europe/London
BEGIN:DAYLIGHT
TZOFFSETFROM:+0000
TZOFFSETTO:+0100
TZNAME:BST
DTSTART:20250330T010000
END:DAYLIGHT
BEGIN:STANDARD
TZOFFSETFROM:+0100
TZOFFSETTO:+0000
TZNAME:GMT
DTSTART:20251026T010000
END:STANDARD
BEGIN:DAYLIGHT
TZOFFSETFROM:+0000
TZOFFSETTO:+0100
TZNAME:BST
DTSTART:20260329T010000
END:DAYLIGHT
BEGIN:STANDARD
TZOFFSETFROM:+0100
TZOFFSETTO:+0000
TZNAME:GMT
DTSTART:20261025T010000
END:STANDARD
BEGIN:DAYLIGHT
TZOFFSETFROM:+0000
TZOFFSETTO:+0100
TZNAME:BST
DTSTART:20270328T010000
END:DAYLIGHT
BEGIN:STANDARD
TZOFFSETFROM:+0100
TZOFFSETTO:+0000
TZNAME:GMT
DTSTART:20271031T010000
END:STANDARD
END:VTIMEZONE
BEGIN:VEVENT
DTSTART;TZID=Europe/London:20260223T100000
DTEND;TZID=Europe/London:20260223T104500
DTSTAMP:20260420T090714
CREATED:20260218T230030Z
LAST-MODIFIED:20260223T040054Z
UID:17472-1771840800-1771843500@harborne-village.com
SUMMARY:We Sing French with Bilingua Sing
DESCRIPTION:The multi-award-winning\, music-led classes help to develop early communication skills\, build confidence and enhance physical and emotional development!  \nClasses use sensory\, interactive music sessions to help kids learn naturally through songs in both English and a second language! \nWe Sing French is for toddler - pre-school ages.
URL:https://harborne-village.com/event/we-sing-french-with-bilingua-sing/
LOCATION:Boston Tea Party\, 30 Edgbaston Village Walk\, Harborne Rd\, Birmingham B15 3AA\, UK
CATEGORIES:Kids & Family
ATTACH;FMTTYPE=image/jpeg:https://harborne-village.com/wp-content/uploads/2026/02/bilin66a6fac2b2.jpg
END:VEVENT
BEGIN:VEVENT
DTSTART;TZID=Europe/London:20260223T123000
DTEND;TZID=Europe/London:20260223T143000
DTSTAMP:20260420T090714
CREATED:20260113T110103Z
LAST-MODIFIED:20260223T110657Z
UID:15544-1771849800-1771857000@harborne-village.com
SUMMARY:HVSC - Slimming World
DESCRIPTION:Slimmers World's comprehensive range of body shaping programs. Choose the program that's best for your particular needs from strengthening to slimming programs.
URL:https://harborne-village.com/event/hvsc-slimming-world-38/
LOCATION:Harborne Village Social Club\, Harborne Village Social Club\, 3 Serpentine Rd\, Harborne\, Birmingham B17 9RD\, UK
CATEGORIES:Health & Wellness
ATTACH;FMTTYPE=image/jpeg:https://harborne-village.com/wp-content/uploads/2026/01/pexel99dbb45a74-5.jpg
END:VEVENT
BEGIN:VEVENT
DTSTART;TZID=Europe/London:20260223T130000
DTEND;TZID=Europe/London:20260223T153000
DTSTAMP:20260420T090714
CREATED:20260113T110103Z
LAST-MODIFIED:20260223T110658Z
UID:15546-1771851600-1771860600@harborne-village.com
SUMMARY:Warm Welcome at St John's Harborne
DESCRIPTION:Free tea\, coffee\, hot chocolate\, toast\, chat\, games & crafts for everyone looking for a warm space this winter.
URL:https://harborne-village.com/event/warm-welcome-at-st-johns-harborne-33/
LOCATION:St John's Harborne\, High St\, Harborne\, Birmingham B17 9PT\, UK
CATEGORIES:Community
ATTACH;FMTTYPE=image/jpeg:https://harborne-village.com/wp-content/uploads/2026/01/warm-f50a557799-5.jpg
END:VEVENT
BEGIN:VEVENT
DTSTART;TZID=Europe/London:20260223T193000
DTEND;TZID=Europe/London:20260223T213000
DTSTAMP:20260420T090714
CREATED:20260217T110043Z
LAST-MODIFIED:20260223T110322Z
UID:17362-1771875000-1771882200@harborne-village.com
SUMMARY:Everyman Men's Quiz Night
DESCRIPTION:'Everyman' is a chance for the men of St John's to come together\, build community\, and deepen their faith. Open to all ages and anyone connected to St John's\, feel free to bring a friend. Our vision is for every man in the church to grow in faith and be won for Jesus. Join us!
URL:https://harborne-village.com/event/everyman-mens-quiz-night-5/
LOCATION:New Inn Pub\, Harborne\, Birmingham B17 0DJ\, UK
CATEGORIES:Community
ATTACH;FMTTYPE=image/jpeg:https://harborne-village.com/wp-content/uploads/2026/02/9350_cf946d9923.jpg
END:VEVENT
BEGIN:VEVENT
DTSTART;TZID=Europe/London:20260223T193000
DTEND;TZID=Europe/London:20260223T220000
DTSTAMP:20260420T090714
CREATED:20260120T110100Z
LAST-MODIFIED:20260223T110651Z
UID:15757-1771875000-1771884000@harborne-village.com
SUMMARY:Pub Quiz at The Junction
DESCRIPTION:A fun filled quiz led by our host Ash every Monday! We have a variety of rounds including a music round and the renowned wipeout round. \nMax team size of 8 people and entry is £1 per person (card or cash!). \nCome show off your knowledge and be in with the chance of winning a £50 voucher! Last place wins a pack of Jaffa Cakes and there's also a raffle to win the mystery prize... \nBook a table online through our website or just turn up on the day!
URL:https://harborne-village.com/event/pub-quiz-at-the-junction-17/
LOCATION:The Junction\, 212 High St\, Harborne\, Birmingham B17 9PT\, UK
CATEGORIES:Other
ATTACH;FMTTYPE=image/jpeg:https://harborne-village.com/wp-content/uploads/2026/01/quiz2be7429b9c-4.jpg
END:VEVENT
END:VCALENDAR