BEGIN:VCALENDAR
VERSION:2.0
PRODID:-//Harborne Village - ECPv6.15.20//NONSGML v1.0//EN
CALSCALE:GREGORIAN
METHOD:PUBLISH
X-WR-CALNAME:Harborne Village
X-ORIGINAL-URL:https://harborne-village.com
X-WR-CALDESC:Events for Harborne Village
REFRESH-INTERVAL;VALUE=DURATION:PT1H
X-Robots-Tag:noindex
X-PUBLISHED-TTL:PT1H
BEGIN:VTIMEZONE
TZID:Europe/London
BEGIN:DAYLIGHT
TZOFFSETFROM:+0000
TZOFFSETTO:+0100
TZNAME:BST
DTSTART:20250330T010000
END:DAYLIGHT
BEGIN:STANDARD
TZOFFSETFROM:+0100
TZOFFSETTO:+0000
TZNAME:GMT
DTSTART:20251026T010000
END:STANDARD
BEGIN:DAYLIGHT
TZOFFSETFROM:+0000
TZOFFSETTO:+0100
TZNAME:BST
DTSTART:20260329T010000
END:DAYLIGHT
BEGIN:STANDARD
TZOFFSETFROM:+0100
TZOFFSETTO:+0000
TZNAME:GMT
DTSTART:20261025T010000
END:STANDARD
BEGIN:DAYLIGHT
TZOFFSETFROM:+0000
TZOFFSETTO:+0100
TZNAME:BST
DTSTART:20270328T010000
END:DAYLIGHT
BEGIN:STANDARD
TZOFFSETFROM:+0100
TZOFFSETTO:+0000
TZNAME:GMT
DTSTART:20271031T010000
END:STANDARD
END:VTIMEZONE
BEGIN:VEVENT
DTSTART;TZID=Europe/London:20260218T111500
DTEND;TZID=Europe/London:20260218T124500
DTSTAMP:20260420T090734
CREATED:20260212T110030Z
LAST-MODIFIED:20260218T110124Z
UID:17087-1771413300-1771418700@harborne-village.com
SUMMARY:Free Family Craft Sessions
DESCRIPTION:Join the Harborne Library for free craft sessions for all the family. Ages 4+.
URL:https://harborne-village.com/event/free-family-craft-sessions-2/
LOCATION:Harborne Library\, 193 High St\, Harborne\, Birmingham B17 9QG\, UK
CATEGORIES:Arts & Crafts
ATTACH;FMTTYPE=image/jpeg:https://harborne-village.com/wp-content/uploads/2026/02/harboffc613e988-6.jpg
END:VEVENT
BEGIN:VEVENT
DTSTART;TZID=Europe/London:20260218T190000
DTEND;TZID=Europe/London:20260218T203000
DTSTAMP:20260420T090734
CREATED:20260113T110101Z
LAST-MODIFIED:20260218T110400Z
UID:15536-1771441200-1771446600@harborne-village.com
SUMMARY:Pub Quiz - Every Wednesday
DESCRIPTION:Looking for a quiz night with a twist? Say goodbye to pens\, paper\, and sneaky cheats – and say hello to SpeedQuizzing! Every Wednesday at O’Neill’s Harborne\, we’re bringing the heat with a fast-paced\, interactive quiz played entirely from your phone. No more scribbling answers – just sharp thinking\, quick taps\, and loads of laughs. \nEntry is just £2\, and the stakes are high – the winner takes the pot! Plus\, we’re throwing in free beer and mystery prizes every single week\, so there’s always something to play for (even if your general knowledge isn’t quite genius level). Whether you're flying solo or bringing the whole squad\, this is the midweek fun you didn’t know you needed. \nBook your spot now\, bring your brain\, and let’s quiz the right way – no pens\, no paper\, no cheating.Book now – this is gonna be fun!
URL:https://harborne-village.com/event/pub-quiz-every-wednesday-34/
LOCATION:O'Neill's Harborne\, 310 High St\, Harborne\, Birmingham B17 9PU\, UK
CATEGORIES:Nightlife
ATTACH;FMTTYPE=image/jpeg:https://harborne-village.com/wp-content/uploads/2026/01/quiz-b71fabfdac-5.jpg
END:VEVENT
BEGIN:VEVENT
DTSTART;TZID=Europe/London:20260218T200000
DTEND;TZID=Europe/London:20260218T213000
DTSTAMP:20260420T090734
CREATED:20260212T230041Z
LAST-MODIFIED:20260218T110123Z
UID:17116-1771444800-1771450200@harborne-village.com
SUMMARY:Ash Wednesday Service
DESCRIPTION:Come along to our Ash Wednesday Service\, with ashing and Holy Communion. This reflective and contemplative service\, which marks the season of Lent and is celebrated by Christians around the world\, is an important way in which we can start Lent with prayer\, confession and stillness. Come and begin the journey of Lent with honesty\, humility and hope.
URL:https://harborne-village.com/event/ash-wednesday-service/
LOCATION:St John's Harborne\, High St\, Harborne\, Birmingham B17 9PT\, UK
CATEGORIES:Religion & Spirituality
ATTACH;FMTTYPE=image/jpeg:https://harborne-village.com/wp-content/uploads/2026/02/ashwe09396eb2fe.jpg
END:VEVENT
END:VCALENDAR