BEGIN:VCALENDAR
VERSION:2.0
PRODID:-//Harborne Village - ECPv6.15.20//NONSGML v1.0//EN
CALSCALE:GREGORIAN
METHOD:PUBLISH
X-WR-CALNAME:Harborne Village
X-ORIGINAL-URL:https://harborne-village.com
X-WR-CALDESC:Events for Harborne Village
REFRESH-INTERVAL;VALUE=DURATION:PT1H
X-Robots-Tag:noindex
X-PUBLISHED-TTL:PT1H
BEGIN:VTIMEZONE
TZID:Europe/London
BEGIN:DAYLIGHT
TZOFFSETFROM:+0000
TZOFFSETTO:+0100
TZNAME:BST
DTSTART:20250330T010000
END:DAYLIGHT
BEGIN:STANDARD
TZOFFSETFROM:+0100
TZOFFSETTO:+0000
TZNAME:GMT
DTSTART:20251026T010000
END:STANDARD
BEGIN:DAYLIGHT
TZOFFSETFROM:+0000
TZOFFSETTO:+0100
TZNAME:BST
DTSTART:20260329T010000
END:DAYLIGHT
BEGIN:STANDARD
TZOFFSETFROM:+0100
TZOFFSETTO:+0000
TZNAME:GMT
DTSTART:20261025T010000
END:STANDARD
BEGIN:DAYLIGHT
TZOFFSETFROM:+0000
TZOFFSETTO:+0100
TZNAME:BST
DTSTART:20270328T010000
END:DAYLIGHT
BEGIN:STANDARD
TZOFFSETFROM:+0100
TZOFFSETTO:+0000
TZNAME:GMT
DTSTART:20271031T010000
END:STANDARD
END:VTIMEZONE
BEGIN:VEVENT
DTSTART;TZID=Europe/London:20260216T130000
DTEND;TZID=Europe/London:20260216T153000
DTSTAMP:20260420T090729
CREATED:20260113T110100Z
LAST-MODIFIED:20260216T110116Z
UID:15530-1771246800-1771255800@harborne-village.com
SUMMARY:Warm Welcome at St John's Harborne
DESCRIPTION:Free tea\, coffee\, hot chocolate\, toast\, chat\, games & crafts for everyone looking for a warm space this winter.
URL:https://harborne-village.com/event/warm-welcome-at-st-johns-harborne-32/
LOCATION:St John's Harborne\, High St\, Harborne\, Birmingham B17 9PT\, UK
CATEGORIES:Community
ATTACH;FMTTYPE=image/jpeg:https://harborne-village.com/wp-content/uploads/2026/01/warm-f50a557799-4.jpg
END:VEVENT
BEGIN:VEVENT
DTSTART;TZID=Europe/London:20260216T193000
DTEND;TZID=Europe/London:20260216T220000
DTSTAMP:20260420T090729
CREATED:20260120T110059Z
LAST-MODIFIED:20260216T110114Z
UID:15753-1771270200-1771279200@harborne-village.com
SUMMARY:Pub Quiz at The Junction
DESCRIPTION:A fun filled quiz led by our host Ash every Monday! We have a variety of rounds including a music round and the renowned wipeout round. \nMax team size of 8 people and entry is £1 per person (card or cash!). \nCome show off your knowledge and be in with the chance of winning a £50 voucher! Last place wins a pack of Jaffa Cakes and there's also a raffle to win the mystery prize... \nBook a table online through our website or just turn up on the day!
URL:https://harborne-village.com/event/pub-quiz-at-the-junction-16/
LOCATION:The Junction\, 212 High St\, Harborne\, Birmingham B17 9PT\, UK
CATEGORIES:Other
ATTACH;FMTTYPE=image/jpeg:https://harborne-village.com/wp-content/uploads/2026/01/quiz2be7429b9c-3.jpg
END:VEVENT
END:VCALENDAR